BEGIN:VCALENDAR
VERSION:2.0
PRODID:-//PAROISSES CATHOLIQUES DE RUEIL MALMAISON - ECPv6.15.20//NONSGML v1.0//EN
CALSCALE:GREGORIAN
METHOD:PUBLISH
X-ORIGINAL-URL:https://www.rueil.diocese92.fr
X-WR-CALDESC:Évènements pour PAROISSES CATHOLIQUES DE RUEIL MALMAISON
REFRESH-INTERVAL;VALUE=DURATION:PT1H
X-Robots-Tag:noindex
X-PUBLISHED-TTL:PT1H
BEGIN:VTIMEZONE
TZID:Europe/Paris
BEGIN:DAYLIGHT
TZOFFSETFROM:+0100
TZOFFSETTO:+0200
TZNAME:CEST
DTSTART:20250330T010000
END:DAYLIGHT
BEGIN:STANDARD
TZOFFSETFROM:+0200
TZOFFSETTO:+0100
TZNAME:CET
DTSTART:20251026T010000
END:STANDARD
BEGIN:DAYLIGHT
TZOFFSETFROM:+0100
TZOFFSETTO:+0200
TZNAME:CEST
DTSTART:20260329T010000
END:DAYLIGHT
BEGIN:STANDARD
TZOFFSETFROM:+0200
TZOFFSETTO:+0100
TZNAME:CET
DTSTART:20261025T010000
END:STANDARD
BEGIN:DAYLIGHT
TZOFFSETFROM:+0100
TZOFFSETTO:+0200
TZNAME:CEST
DTSTART:20270328T010000
END:DAYLIGHT
BEGIN:STANDARD
TZOFFSETFROM:+0200
TZOFFSETTO:+0100
TZNAME:CET
DTSTART:20271031T010000
END:STANDARD
END:VTIMEZONE
BEGIN:VEVENT
DTSTART;TZID=Europe/Paris:20260310T141500
DTEND;TZID=Europe/Paris:20260310T161500
DTSTAMP:20260421T130225
CREATED:20260107T083255Z
LAST-MODIFIED:20260107T083255Z
UID:31132-1773152100-1773159300@www.rueil.diocese92.fr
SUMMARY:Bible à Rueil
DESCRIPTION:Francis Lapierre\, diacre\, propose plusieurs rencontres autour de la Bible un mardi par mois à 14h15 à Saint Joseph de Buzenval (salle Saint Joseph).\n \nEn 2026 :\n– Mardi 10 mars\n– Mardi 31 mars\n– Mardi 26 mai \nPour y participer\, merci de vous inscrire à l’adresse suivante : mf.lapierre@orange.fr
URL:https://www.rueil.diocese92.fr/evenement/bible-a-rueil-3/
LOCATION:Salles paroissiales de Saint Joseph\, passage Saint Antoine\, Rueil-Malmaison\, 92500
CATEGORIES:Découverte de la bible,Grandir dans la foi,Paroisse Saint Joseph,Pour les adultes,Se former
ATTACH;FMTTYPE=image/jpeg:https://www.rueil.diocese92.fr/wp-content/uploads/2018/01/Bible.jpg
END:VEVENT
BEGIN:VEVENT
DTSTART;TZID=Europe/Paris:20260319T190000
DTEND;TZID=Europe/Paris:20260319T220000
DTSTAMP:20260421T130225
CREATED:20260213T141711Z
LAST-MODIFIED:20260213T141711Z
UID:31437-1773946800-1773957600@www.rueil.diocese92.fr
SUMMARY:Solennité de Saint Joseph
DESCRIPTION:Jeudi 19 mars\, fêtons ensemble Saint Joseph !\n19h : Messe à Saint-Joseph de Buzenval\nSuivie d’un apéro dînatoire (chacun contribue au buffet – finger food)\nSéance du parcours diocésain sur l’Exode (randonnée biblique)
URL:https://www.rueil.diocese92.fr/evenement/solennite-de-saint-joseph/
LOCATION:Salles paroissiales de Saint Joseph\, passage Saint Antoine\, Rueil-Malmaison\, 92500
CATEGORIES:Cafés, repas, fêtes paroissiales,Découverte de la bible,Messes,Paroisse Saint Joseph,Prier & célébrer,Se former,Vie fraternelle
ATTACH;FMTTYPE=image/jpeg:https://www.rueil.diocese92.fr/wp-content/uploads/2021/03/st-joseph-icone-1.jpg
ORGANIZER;CN="Paroisse Saint Joseph de Buzenval":MAILTO:stjoseph@rueil.diocese92.fr
END:VEVENT
BEGIN:VEVENT
DTSTART;TZID=Europe/Paris:20260331T141500
DTEND;TZID=Europe/Paris:20260331T161500
DTSTAMP:20260421T130225
CREATED:20260107T083412Z
LAST-MODIFIED:20260107T083412Z
UID:31134-1774966500-1774973700@www.rueil.diocese92.fr
SUMMARY:Bible à Rueil
DESCRIPTION:Francis Lapierre\, diacre\, propose plusieurs rencontres autour de la Bible un mardi par mois à 14h15 à Saint Joseph de Buzenval (salle Saint Joseph).\n \nEn 2026 :\n– Mardi 31 mars\n– Mardi 26 mai \nPour y participer\, merci de vous inscrire à l’adresse suivante : mf.lapierre@orange.fr
URL:https://www.rueil.diocese92.fr/evenement/bible-a-rueil-4/
LOCATION:Salles paroissiales de Saint Joseph\, passage Saint Antoine\, Rueil-Malmaison\, 92500
CATEGORIES:Découverte de la bible,Grandir dans la foi,Paroisse Saint Joseph,Pour les adultes,Se former
ATTACH;FMTTYPE=image/jpeg:https://www.rueil.diocese92.fr/wp-content/uploads/2018/01/Bible.jpg
END:VEVENT
END:VCALENDAR