BEGIN:VCALENDAR
VERSION:2.0
PRODID:-//PAROISSES CATHOLIQUES DE RUEIL MALMAISON - ECPv6.15.20//NONSGML v1.0//EN
CALSCALE:GREGORIAN
METHOD:PUBLISH
X-WR-CALNAME:PAROISSES CATHOLIQUES DE RUEIL MALMAISON
X-ORIGINAL-URL:https://www.rueil.diocese92.fr
X-WR-CALDESC:Évènements pour PAROISSES CATHOLIQUES DE RUEIL MALMAISON
REFRESH-INTERVAL;VALUE=DURATION:PT1H
X-Robots-Tag:noindex
X-PUBLISHED-TTL:PT1H
BEGIN:VTIMEZONE
TZID:Europe/Paris
BEGIN:DAYLIGHT
TZOFFSETFROM:+0100
TZOFFSETTO:+0200
TZNAME:CEST
DTSTART:20230326T010000
END:DAYLIGHT
BEGIN:STANDARD
TZOFFSETFROM:+0200
TZOFFSETTO:+0100
TZNAME:CET
DTSTART:20231029T010000
END:STANDARD
BEGIN:DAYLIGHT
TZOFFSETFROM:+0100
TZOFFSETTO:+0200
TZNAME:CEST
DTSTART:20240331T010000
END:DAYLIGHT
BEGIN:STANDARD
TZOFFSETFROM:+0200
TZOFFSETTO:+0100
TZNAME:CET
DTSTART:20241027T010000
END:STANDARD
BEGIN:DAYLIGHT
TZOFFSETFROM:+0100
TZOFFSETTO:+0200
TZNAME:CEST
DTSTART:20250330T010000
END:DAYLIGHT
BEGIN:STANDARD
TZOFFSETFROM:+0200
TZOFFSETTO:+0100
TZNAME:CET
DTSTART:20251026T010000
END:STANDARD
END:VTIMEZONE
BEGIN:VEVENT
DTSTART;TZID=Europe/Paris:20240503T183000
DTEND;TZID=Europe/Paris:20240503T213000
DTSTAMP:20260425T023718
CREATED:20240501T130932Z
LAST-MODIFIED:20240501T130932Z
UID:28867-1714761000-1714771800@www.rueil.diocese92.fr
SUMMARY:Buffets d'orgue
DESCRIPTION:Après 2013\, 2016 et 2019 le célèbre BUFFETS D’ORGUE de Sainte Thérèse à Rueil Malmaison reprend souffle.\n\n\n\n\n\nA l’occasion de la journée mondiale de l’orgue\, les organistes de la paroisse vont se succéder aux claviers et pédalier afin de vous interpréter quelques morceaux du répertoire d’orgue\, répertoire étendu sur plusieurs siècles.\n\nSelon votre disponibilité venez quand vous pouvez  5 minutes\, 10 minutes ou 180 minutes   partager ce temps musical fraternel  Vendredi 3 mai entre 18h30 et 21h30.\n \nVenez écouter un air\,\nVenez partager un verre\nVenez déguster un dessert.\n\nTout sera prêt pour vous restaurer sur l’autre buffet\, pas celui de l’orgue.
URL:https://www.rueil.diocese92.fr/evenement/buffets-dorgue/
LOCATION:Eglise Sainte Thérèse\, 21 bis avenue de Seine\, Rueil-Malmaison\, 92500\, France
CATEGORIES:Actualités générales,Paroisse Sainte Thérèse
ATTACH;FMTTYPE=image/jpeg:https://www.rueil.diocese92.fr/wp-content/uploads/2024/05/Insta-Rueil-72.jpg
END:VEVENT
END:VCALENDAR