BEGIN:VCALENDAR
VERSION:2.0
PRODID:-//PAROISSES CATHOLIQUES DE RUEIL MALMAISON - ECPv6.15.20//NONSGML v1.0//EN
CALSCALE:GREGORIAN
METHOD:PUBLISH
X-ORIGINAL-URL:https://www.rueil.diocese92.fr
X-WR-CALDESC:Évènements pour PAROISSES CATHOLIQUES DE RUEIL MALMAISON
REFRESH-INTERVAL;VALUE=DURATION:PT1H
X-Robots-Tag:noindex
X-PUBLISHED-TTL:PT1H
BEGIN:VTIMEZONE
TZID:Europe/Paris
BEGIN:DAYLIGHT
TZOFFSETFROM:+0100
TZOFFSETTO:+0200
TZNAME:CEST
DTSTART:20240331T010000
END:DAYLIGHT
BEGIN:STANDARD
TZOFFSETFROM:+0200
TZOFFSETTO:+0100
TZNAME:CET
DTSTART:20241027T010000
END:STANDARD
BEGIN:DAYLIGHT
TZOFFSETFROM:+0100
TZOFFSETTO:+0200
TZNAME:CEST
DTSTART:20250330T010000
END:DAYLIGHT
BEGIN:STANDARD
TZOFFSETFROM:+0200
TZOFFSETTO:+0100
TZNAME:CET
DTSTART:20251026T010000
END:STANDARD
BEGIN:DAYLIGHT
TZOFFSETFROM:+0100
TZOFFSETTO:+0200
TZNAME:CEST
DTSTART:20260329T010000
END:DAYLIGHT
BEGIN:STANDARD
TZOFFSETFROM:+0200
TZOFFSETTO:+0100
TZNAME:CET
DTSTART:20261025T010000
END:STANDARD
END:VTIMEZONE
BEGIN:VEVENT
DTSTART;TZID=Europe/Paris:20250604T080000
DTEND;TZID=Europe/Paris:20250604T233000
DTSTAMP:20260421T123315
CREATED:20250604T084133Z
LAST-MODIFIED:20250925T071104Z
UID:30501-1749024000-1749079800@www.rueil.diocese92.fr
SUMMARY:Notre-Dame de la Compassion - Inscriptions Catéchisme 2025-2026
DESCRIPTION:A Notre-Dame de la Compassion\, les (ré)inscriptions au catéchisme pour l’année 2025-2026 sont ouvertes. \nLes parents sont invités dès à présent à remplir le formulaire en ligne https://gaspard.adn.altair-performance.com/inscriptioncate/index.php?inst=37×2373631 \n– La finalisation de l’inscription se fera\, avec signature de la fiche imprimée par nos soins\, en passant au secrétariat.  \n– Frais d’inscription à régler en ligne : 55€ pour un enfant et 85€ pour 2 enfants.  \n– Prévoir une photo de votre enfant.  \n– Pour un enfant baptisé\, se munir de son certificat de baptême. S’il n’a pas été baptisé\, nous l’accueillerons avec joie parmi les enfants du catéchisme.  \nContact : kt.ndc92@gmail.com \n  \nLa rentrée du KT se fera à partir du samedi 20 septembre selon les créneaux choisis de votre enfant.
URL:https://www.rueil.diocese92.fr/evenement/30501/
CATEGORIES:Actualités générales,Grandir dans la foi,Paroisse Notre Dame de la Compassion,Pour les 7/11 ans
ATTACH;FMTTYPE=image/jpeg:https://www.rueil.diocese92.fr/wp-content/uploads/2022/06/visuel-facebook-1080-x-1350-px-campagne-kt-2025-819x1024-1.jpg
END:VEVENT
END:VCALENDAR